BEGIN:VCALENDAR
VERSION:2.0
PRODID:-//eventon.com NONSGML v1.0//EN
BEGIN:VEVENT
UID:69e9d86b15461
DTSTAMP:20260423T102931
DTSTART:20200220T220000Z
DTEND:20200227T220000Z
LOCATION:
SUMMARY:Fasnet
DESCRIPTION: Fasnet
END:VEVENT
END:VCALENDAR